BEGIN:VCALENDAR
VERSION:2.0
PRODID:-//国府弘子-Hiroko Kokubu- - ECPv4.6//NONSGML v1.0//EN
CALSCALE:GREGORIAN
METHOD:PUBLISH
X-WR-CALNAME:国府弘子-Hiroko Kokubu-
X-ORIGINAL-URL:http://kokubuhiroko.net
X-WR-CALDESC:Events for 国府弘子-Hiroko Kokubu-
BEGIN:VEVENT
DTSTART;VALUE=DATE:20260117
DTEND;VALUE=DATE:20260117
DTSTAMP:20260423T162219
CREATED:20250604T110603Z
LAST-MODIFIED:20251001T103824Z
UID:4852-1768608000-1768694399@kokubuhiroko.net
SUMMARY:埼玉・ふじみ野ステラ・ウェストホール　国府弘子ソロピアノコンサート　JAZZ meets CLASSICS
DESCRIPTION:  \n国府弘子ソロピアノコンサート　 \nJAZZ meets CLASSICS \n埼玉・ふじみ野ステラ・ウェストホール \n〒356-0058　埼玉県ふじみ野市大井中央2丁目1-8\nTEL 049-261-0648 \nhttps://f-bunka.jp/stella-west/ \n開場13:00  \n開演14:00  \n料金2\,500円\n学生：1\,500円  \n小学生：1\,000円（保護者の方がご同伴下さい） \nチケット発売10/1（水）より \n（窓口）\n・ふじみ野ステラ・ウェスト\n・ふじみ野ステラ・イースト \n（オンライン）\n・ふじみ野ステラ・イースト/ウェスト　オンラインチケットサービス　https://p-ticket.jp/fujimino/ \n【問】アルマ企画　080-5058-0904 小林さん \n  \n📢ピュアハート先行予約のお知らせ📢 \n9月29日（月）10時から10月6日（月）22時まで \nメールにて受付をいたします。 \n国府弘子webのメールフォーム より \n「1/17購入希望」とご明記の上、 \nお名前、(ふりがな)、枚数、お電話番号、郵便番号、ご住所をお書き添えの上、ご送信ください。 \n全席指定チケットです。 \nどの席の種類でも購入可能です。ご希望の方は、お申し出ください。 \nご希望のないかたは一般席で受付いたします。 \nお申し込みいただいた方へのお席の確保のお知らせは10月7日(火）13時までにメールにてお知らせいたします。 \nまた、お申込み後のキャンセルはお受け付けできませんのであらかじめご了承下さい。 \nお申し込みお待ちしております。 \n
URL:http://kokubuhiroko.net/schedule/%e5%9f%bc%e7%8e%89%e3%83%bb%e3%81%b5%e3%81%98%e3%81%bf%e9%87%8e%e3%82%b9%e3%83%86%e3%83%a9%e3%83%bb%e3%82%a6%e3%82%a7%e3%82%b9%e3%83%88%e3%83%9b%e3%83%bc%e3%83%ab%e3%80%80%e5%9b%bd%e5%ba%9c%e5%bc%98
CATEGORIES:ライブ
END:VEVENT
END:VCALENDAR