BEGIN:VCALENDAR
VERSION:2.0
PRODID:-//国府弘子-Hiroko Kokubu- - ECPv4.6//NONSGML v1.0//EN
CALSCALE:GREGORIAN
METHOD:PUBLISH
X-WR-CALNAME:国府弘子-Hiroko Kokubu-
X-ORIGINAL-URL:http://kokubuhiroko.net
X-WR-CALDESC:Events for 国府弘子-Hiroko Kokubu-
BEGIN:VEVENT
DTSTART;TZID=Asia/Tokyo:20250725T080000
DTEND;TZID=Asia/Tokyo:20250725T170000
DTSTAMP:20260423T094645
CREATED:20250725T065653Z
LAST-MODIFIED:20250725T071152Z
UID:4935-1753430400-1753462800@kokubuhiroko.net
SUMMARY:月刊「ニューモデルマガジンX」発売　「川島ノリコの知りたいこといっぱい」　にて国府弘子紹介記事
DESCRIPTION:MagXは車のスクープ情報誌、月刊「ニューモデルマガジンX」9月号　発売 \nNHK の番組でご一緒しておりました、川島ノリコさんのコラム \n「川島ノリコの知りたいこといっぱい」で \n国府弘子の歴代「車」に関しての記事が掲載されております。 \nhttps://www.mag-x.com/?fbclid=IwY2xjawLwCNhleHRuA2FlbQIxMABicmlkETFSWTM3SFZFbWZhQ2FyUDFJAR5sc9jz0PnM7sajiXOhJqAn1sUQi7e8QMW4LKjfCxbyMWlf0dGD3i3z1gxOpw_aem_Ubo_wJt9ldoP0gLb4p2xdg \nぜひお読みください。 \nInstagram \nhttps://www.instagram.com/kawashima_noriko/ \n  \nhttps://www.instagram.com/p/DMe4hZGSgRg/ \n
URL:http://kokubuhiroko.net/schedule/%e6%9c%88%e5%88%8a%e3%80%8c%e3%83%8b%e3%83%a5%e3%83%bc%e3%83%a2%e3%83%87%e3%83%ab%e3%83%9e%e3%82%ac%e3%82%b8%e3%83%b3x%e3%80%8d%e7%99%ba%e5%a3%b2%e3%80%80%e3%80%8c%e5%b7%9d%e5%b3%b6%e3%83%8e%e3%83%aa
CATEGORIES:メディア
END:VEVENT
END:VCALENDAR