BEGIN:VCALENDAR
VERSION:2.0
PRODID:-//国府弘子-Hiroko Kokubu- - ECPv4.6//NONSGML v1.0//EN
CALSCALE:GREGORIAN
METHOD:PUBLISH
X-WR-CALNAME:国府弘子-Hiroko Kokubu-
X-ORIGINAL-URL:http://kokubuhiroko.net
X-WR-CALDESC:Events for 国府弘子-Hiroko Kokubu-
BEGIN:VEVENT
DTSTART;VALUE=DATE:20251108
DTEND;VALUE=DATE:20251108
DTSTAMP:20260423T092838
CREATED:20250710T015209Z
LAST-MODIFIED:20250710T015435Z
UID:4894-1762560000-1762646399@kokubuhiroko.net
SUMMARY:神奈川・ラゾーナ川崎プラザソル　国府弘子アコースティックトリオ＋withクロエ・キブル 　～秋の平均年齢若返り大作戦　Part２～
DESCRIPTION:国府弘子アコースティックトリオ＋withクロエ・キブル  \n～秋の平均年齢若返り大作戦　Part２～ \n人気ピアニスト国府弘子と注目の若手ボーカリスト Chloe \n初のコラボが実現！ \n  \n  \n出演 \n国府弘子アコースティックトリオ \n国府弘子（ピアノ）　小美濃悠太（ベース）　岩瀬立飛（ドラムス） \nゲスト　クロエ・キブル（ボーカル） \n開場15:30 \n開演16:00 \nラゾーナ川崎プラザソル \nhttps://www.plazasol.jp/ \n料金　5\,500円 \nチケット発売 \n▷7月18日（金）午前10時より　かわさきジャズチケットオンライン会員先行発売 \nhttps://www.kawasakijazz.jp/ticket/ \n▷ 7月19日（土）一般発売開始！ \n【問】かわさきジャズ実行委員会事務局 044-223-8623（平日 10時～17時） https://www.kawasakijazz.jp/ \n
URL:http://kokubuhiroko.net/schedule/%e7%a5%9e%e5%a5%88%e5%b7%9d%e3%83%bb%e3%83%a9%e3%82%be%e3%83%bc%e3%83%8a%e5%b7%9d%e5%b4%8e%e3%83%97%e3%83%a9%e3%82%b6%e3%82%bd%e3%83%ab%e3%80%80%e5%9b%bd%e5%ba%9c%e5%bc%98%e5%ad%90%e3%82%a2%e3%82%b3
CATEGORIES:ライブ
END:VEVENT
END:VCALENDAR