BEGIN:VCALENDAR
VERSION:2.0
PRODID:-//国府弘子-Hiroko Kokubu- - ECPv4.6//NONSGML v1.0//EN
CALSCALE:GREGORIAN
METHOD:PUBLISH
X-WR-CALNAME:国府弘子-Hiroko Kokubu-
X-ORIGINAL-URL:http://kokubuhiroko.net
X-WR-CALDESC:Events for 国府弘子-Hiroko Kokubu-
BEGIN:VEVENT
DTSTART;VALUE=DATE:20251221
DTEND;VALUE=DATE:20251221
DTSTAMP:20260423T122014
CREATED:20250904T145636Z
LAST-MODIFIED:20250904T150057Z
UID:4958-1766275200-1766361599@kokubuhiroko.net
SUMMARY:長崎・ホテルグランドパレス諫早　岩崎宏美＆国府弘子クリスマスディナーショー "Piano Songs"
DESCRIPTION:岩崎宏美＆国府弘子クリスマスディナーショー”Piano Songs” 2025 \n岩崎宏美（ボーカル）国府弘子（ピアノ） \n受付開始　17:00 \nディナータイム 18:00 \nショータイム19:00 \n料金 お一人様 33\,000円（お料理・お飲み物・ショータイム・税・サービス料込） \n【問】ホテルグランドパレス諫早　イベント予約係まで　0957-24-3939 \n  \n
URL:http://kokubuhiroko.net/schedule/%e9%95%b7%e5%b4%8e%e3%83%bb%e3%83%9b%e3%83%86%e3%83%ab%e3%82%b0%e3%83%a9%e3%83%b3%e3%83%89%e3%83%91%e3%83%ac%e3%82%b9%e8%ab%ab%e6%97%a9%e3%80%80%e5%b2%a9%e5%b4%8e%e5%ae%8f%e7%be%8e%ef%bc%86%e5%9b%bd
CATEGORIES:ライブ
END:VEVENT
END:VCALENDAR