BEGIN:VCALENDAR
VERSION:2.0
PRODID:-//国府弘子-Hiroko Kokubu- - ECPv4.6//NONSGML v1.0//EN
CALSCALE:GREGORIAN
METHOD:PUBLISH
X-WR-CALNAME:国府弘子-Hiroko Kokubu-
X-ORIGINAL-URL:http://kokubuhiroko.net
X-WR-CALDESC:Events for 国府弘子-Hiroko Kokubu-
BEGIN:VEVENT
DTSTART;VALUE=DATE:20150101
DTEND;VALUE=DATE:20150101
DTSTAMP:20260423T220656
CREATED:20150101T044015Z
LAST-MODIFIED:20150225T054043Z
UID:419-1420070400-1420156799@kokubuhiroko.net
SUMMARY:NHK第一放送　 ラジオ深夜便／ミュージックバード　【新春特別番組】新春女子会 7人のピアニスト放談
DESCRIPTION:NHK第一放送　 ラジオ深夜便\n１月１日（木・祝）午後11時台と翌午前０時台\n新春インタビュー「鍵盤に夢を託して」に出演を致します。\nアンカー：迎　康子さん\nNHKブログ　http://www.nhk.or.jp/r1-blog/050/206208.html \nラジオ深夜便HP http://www.nhk.or.jp/shinyabin/ \n【新春特別番組】新春女子会 7人のピアニスト放談\n2015年1月1日(木)0:00～1:00　2日(金)0:00～1:00 （2夜連続） \nプライベートでも仲のいい人気女性ピアニスト7人が集まる”女子会”。\nその参加メンバーである国府弘子、中村由利子、西村由紀江、岡本真夜、石塚まみ、 木住野佳子、そして「宮野寛子のComfortな時間」でおなじみのジャズピアニスト宮野寛子が大集結し、華やかな新春特番をお送りします。 \n【第1夜：Music&More feat 7人のピアニスト】\n洋楽の歌詞にフォーカスしている番組「Music&More」 とのコラボレーション。7人がお気に入りの洋楽をそれぞれ持ち込み、歌詞を掘り下げながら、聴いていた当時の思い出やどんな影響を受けたのかなどを語ります。 \n【第2夜：7人のピアニストトークバトル】\n女性ピアニスト7人による”女子会”を完全再現。新年の過ごし方から見えた7人の共通点、彼女たちならでは悩み、事前にリスナーから募った「7人のピアニストに聞きたいこと」など、話題満載でお送りします。 \n（出演）国府弘子、中村由利子、西村由紀江、岡本真夜、石塚まみ、木住野佳子、宮野寛子\n荒ヶ田貴美(MC) \n【受信局】１月１日９０局、\n１月２日８０局\nPCの場合は、サイマルラジオ（http://www.jcbasimul.com/）へアクセスし、受信局の「Listen」をクリックすると、全国、全世界、どこにいてもお聴きいただけます。\nその他、スマートフォンをお持ちの方は、サイマルラジオ、TuneinRadio、Listen Radio、\nいずれかのラジオアプリでもお聴きいただけます。 \n受信局1月1日\n北海道 稚内市 ㈱エフエムわっかない FMわっぴ～\n北海道 小樽市 ㈱エフエム小樽放送局 FMおたる\n北海道 “札幌市\n／豊平区” ㈱エフエムとよひら FMアップル\n北海道 　函館市　 函館山ロープウェイ㈱ FMいるか\n青森県 むつ市 ㈱エフエムむつ FM AZUR（アジュール）\n青森県 “南津軽郡\n田舎館村” ㈱エフエムジャイゴウェーブ FM JAIGO WAVE\n青森県 五所川原市 ㈱五所川原エフエム ジーラジ\n秋田県 秋田市 秋田コミュニティー放送㈱ FM765\n秋田県 湯沢市 ㈱エフエムゆーとぴあ FMゆーとぴあ\n秋田県 鹿角市 鹿角コミュニティFM株式会社　 鹿角きりたんぽFM\n岩手県 二戸市 “NPO法人\nカシオペア市民情報ネットワーク ” カシオペアFM\n岩手県 宮古市 宮古エフエム株式会社 みやこハーバーラジオ\n岩手県 花巻市 えふえむ花巻㈱ FM One\n山形県 米沢市 ㈱ニューメディア エフエムNCV　おきたまGO!\n宮城県 大崎市 ＮＰＯ法人 おおさきエフエム放送 Ｂｉｋｋｉ-ｆｍ(びっきエフエム)\n宮城県 “仙台市\n／太白区” エフエムたいはく㈱ エフエムたいはく\n宮城県 岩沼市 ㈱エフエムいわぬま ほほえみ\n福島県 会津若松市 ㈱エフエム会津 FM愛’S\n福島県 喜多方市 喜多方シティエフエム㈱ エフエムきたかた\n福島県 福島市 福島コミュニティ放送㈱　 FMポコ\n福島県 いわき市 ㈱いわき市民コミュニティ放送　 ＳＥＡ ＷＡＶＥ FMいわき\n群馬県 沼田市 沼田エフエム放送㈱　 FM ＯＺＥ\n群馬県 伊勢崎市 いせさきFM放送㈱ いせさきFM\n群馬県 “佐波郡\n玉村町” ㈱ＦＭたまむら ラヂオななみ\n茨城県 高萩市 NPO法人たかはぎFM たかはぎFM\n茨城県 久慈郡大子町 財団法人大子町開発公社 FMだいご\n茨城県 日立市 ファイトマイタウンひたち協同組合 FMひたち\n茨城県 水戸市 水戸コミュニティ放送㈱ FMぱるるん\n茨城県 鹿嶋市 エフエムかしま市民放送㈱ FM　かしま\n千葉県 木更津市 かずさエフエム㈱ ＢＲＥＥＺＥ　ＲＡＤＩＯ\n東京都 立川市 エフエムラジオ立川(株) FMたちかわ\n東京都 調布市 調布エフエム放送㈱　 ちょうふFM\n東京都 世田谷区 ㈱世田谷サービス公社 エフエムせたがや\n神奈川県 横須賀市 横須賀エフエム放送㈱ FMブルー湘南\n神奈川県 “横浜市\n／戸塚区” ㈱エフエム戸塚 エフエム戸塚\n山梨県 甲府市 ㈱エフエム甲府 エフエム甲府\n山梨県 北杜市 NPO法人八ヶ岳湖コミュニティ放送 エフエム八ヶ岳\n新潟県 柏崎市 ㈱柏崎コミュニティ放送 FMピッカラ\n新潟県 南魚沼市 ㈱エフエム雪国 FMゆきぐに\n新潟県 上越市 エフエム上越㈱ FM-Ｊ\n新潟県 十日町市 ㈱エフエムとおかまち ほっこりラジオ\n長野県 佐久市 ㈱エフエム佐久平 エフエム佐久平\n長野県 諏訪市 エルシーブイ㈱ エルシーブイFM７６９\n長野県 安曇野市 あづみ野エフエム放送 エフエムあづみの\n静岡県 御殿場市 ㈱エフエム御殿場 富士山ＧＯＧＯエフエム\n静岡県 “静岡市\n／清水区” ㈱エフエムしみず マリンパル\n静岡県 三島市 ㈱エフエムみしま・かんなみ ボイス・キュー\n静岡県 伊東市 エフエム伊東㈱ FMなぎさステーション\n静岡県 熱海市 ㈱エフエム熱海湯河原 Ｃｉａｏ！\n静岡県 島田市 (株)ＦＭ島田 ｇ－ｓｋｙ76.5\n富山県 高岡市 ㈱ラジオたかおか ラジオたかおか\n富山県 砺波市 ㈱エフエムとなみ エフエムとなみ\n愛知県 豊橋市 ㈱エフエム豊橋　 エフエムやしの実\n愛知県 岡崎市 ㈱エフエム岡崎 FMおかざき\n愛知県 豊田市 エフエムとよた㈱ ラジオ・ラブィート\n愛知県 東海市 知多メディアスネットワーク㈱ メディアスエフエム\n愛知県 瀬戸市 ㈱ 尾張東部放送 RADIO SANQ\n愛知県 津島市 西尾張シーエーティービー㈱ エフエムななみ\n岐阜県 多治見市 ㈱エフエムたじみ FMＰｉＰｉ\n岐阜県 岐阜市 ㈱シティエフエムぎふ FM わっち\n岐阜県 可児市 ＦＭラインウェーブ㈱ ＦＭラインウェーブ\n三重県 四日市市 エフエムよっかいち㈱ ポートウェイブ\n三重県 名張市 ㈱アドバンスコープ エフエムなばり （なばステ）\n三重県 鈴鹿市 ㈱鈴鹿メディアパーク Suzuka Voice FM 78.3MHz\n三重県 いなべ市 NPO法人いなべ市文化協会 いなBee(いなべエフエム)\n京都府 綾部市 ㈱エフエムあやべ　 FMいかる\n大阪府 守口市 ㈱エフエムもりぐち FM ＨＡＮＡＫＯ\n大阪府 豊中市 千里ニュータウンＦＭ放送㈱ FM千里\n兵庫県 宝塚市 株式会社エフエム宝塚 ＦＭ宝塚\n兵庫県 三木市 ㈱エフエム三木 エフエムみっきぃ\n兵庫県 豊岡市 ㈱エフエムたじま FM　ＪＵＮＧＬＥ\n岡山県 岡山市 ㈱岡山シティエフエム レディオ モモ\n岡山県 笠岡市 エフエムゆめウェーブ㈱ エフエムゆめウェーブ\n広島県 福山市 ㈱エフエムふくやま レディオＢＩＮＧＯ\n広島県 尾道市 尾道エフエム放送㈱ エフエムおのみち\n島根県 出雲市 ㈱エフエムいずも FMいずも愛ステーション\n山口県 下関市 ㈱コミュニティエフエム下関 ＣＯＭＥ ＯＮ ! FM\n山口県 周南市 エフエム周南㈱ しゅうなんFM\n山口県 防府市 ㈱ぷらざＦＭ FMわっしょい\n香川県 高松市 エフエム高松コミュニティ放送㈱ “Ｍａｎｄｅｇａｎ\nFM８１５”\n徳島県 徳島市 ㈱エフエムびざん Ｂ-FM７９１\n福岡県 八女市 一般財団法人　ＦＭ八女 ＦＭ八女\n佐賀県 唐津市 ＦＭからつ㈱ からつエフエム\n佐賀県 佐賀市 ㈱コミュニティジャーナル えびすＦＭ\n長崎県 諫早市 ㈱エフエム諫早 レインボーFM\n長崎県 島原市 株式会社FMしまばら　 FMしまばら\n大分県 佐伯市 さいき市民放送㈱ さいきエフエム\n大分県 中津市 ㈱ＦＭなかつ NOAS FM(ノースエフエム)\n熊本県 八代市 ㈱エフエムやつしろ Ｋａｐｐａ　FM\n宮崎県 日向市 ㈱ケーブルメディアワイワイ ＦＭひゅうが \n
URL:http://kokubuhiroko.net/schedule/post-419
CATEGORIES:メディア
END:VEVENT
END:VCALENDAR