BEGIN:VCALENDAR
VERSION:2.0
PRODID:-//国府弘子-Hiroko Kokubu- - ECPv4.6//NONSGML v1.0//EN
CALSCALE:GREGORIAN
METHOD:PUBLISH
X-WR-CALNAME:国府弘子-Hiroko Kokubu-
X-ORIGINAL-URL:http://kokubuhiroko.net
X-WR-CALDESC:Events for 国府弘子-Hiroko Kokubu-
BEGIN:VEVENT
DTSTART;VALUE=DATE:20150107
DTEND;VALUE=DATE:20150107
DTSTAMP:20260423T204410
CREATED:20150225T044747Z
LAST-MODIFIED:20150225T045220Z
UID:425-1420588800-1420675199@kokubuhiroko.net
SUMMARY:WOWOW　ジャズ・ピアノ6連弾 拡大版　オンエア
DESCRIPTION:WOWOW　オフビート＆JAZZ「ジャズ・ピアノ6連弾」拡大版\n22:30よりオンエア \n日本のトップピアニスト６人が集結し、６台のピアノで、ビッグバンドサウンドを再現。\nまさにここでしか聴けない、豪華でレアなコンサート。\n日本を代表するピアニスト6人が一堂に会して共演を繰り広げるという、画期的なコンサート“ジャズ・ピアノ6連弾”。2005年にスタートし、これまで18公演が行なわれてきたが、2014年は、佐山雅弘、小原孝、国府弘子、塩谷哲というレギュラー・メンバー4人に加え、今回残念ながら指の負傷のため出演できなかった島健の代役として佐藤允彦、さらに日本が世界に誇る伝説のピアニスト穐吉敏子という、夢の共演が実現した。 \n2014年は、ジャズ史上最大の作曲家であり、バンド・リーダーだったデューク・エリントンの没後40周年ということもあり、『ビッグバンドに捧ぐ』というテーマで、エリントンの名曲や、ビッグ・バンドゆかりの楽曲を、6人の個性的なプレイと、緻密なアレンジで、ここでしか聴けない貴重な演奏を展開した。\nそんな彼らの4月11日、サントリーホールでのコンサートを放送。ピアノ6台によるアンサンブルは、まさに圧巻だ。 \n
URL:http://kokubuhiroko.net/schedule/post-425
CATEGORIES:メディア
END:VEVENT
END:VCALENDAR