BEGIN:VCALENDAR
VERSION:2.0
PRODID:-//国府弘子-Hiroko Kokubu- - ECPv4.6//NONSGML v1.0//EN
CALSCALE:GREGORIAN
METHOD:PUBLISH
X-WR-CALNAME:国府弘子-Hiroko Kokubu-
X-ORIGINAL-URL:http://kokubuhiroko.net
X-WR-CALDESC:Events for 国府弘子-Hiroko Kokubu-
BEGIN:VEVENT
DTSTART;VALUE=DATE:20150110
DTEND;VALUE=DATE:20150110
DTSTAMP:20260423T204130
CREATED:20150225T055009Z
LAST-MODIFIED:20150225T055009Z
UID:431-1420848000-1420934399@kokubuhiroko.net
SUMMARY:FM FUJI「さあ、RUBATO！」出演/マガジンハウス　クロワッサン　掲載　／　intoxicate vol.113　掲載
DESCRIPTION:FM FUJI「さあ、RUBATO！」22:30～23:00\nDJ：瀬戸 了／春ななみ\n軽井沢の素敵なワインレストラン「RUBATO」さんから\n「お客様であるリスナーとお酒のある楽しい時間をつなげ、お酒をもっと好きになってもらい、お酒と音楽に恋してもらう」ための情報を発信。\nお酒とトークと音楽・・・極上の一夜を演出します。\nhttp://www.fmfuji.jp/wine/\nFM FUJI HP\nhttp://www.fmfuji.jp/ （山梨 83.0MHz、東京 78.6MHz） \n一足早く新譜「ピアノ一丁」より音源がお聞き頂けます。 \nマガジンハウス「クロワッサン」1月25日号（1月10日発売）\nMUSICのコーナーP99に掲載されました。 \nタワーレコードの発行する\nintoxicate vol.113\nＰ２８に掲載されております。\n国府弘子 『ピアノ一丁!』\nアナタにどう届けるか　アナタとどう楽しむか\nhttp://tower.jp/mag/intoxicate \n同じ内容がWebでもアップされました。\nhttp://mikiki.tokyo.jp/articles/-/5029 \n
URL:http://kokubuhiroko.net/schedule/post-431
CATEGORIES:メディア
END:VEVENT
END:VCALENDAR