BEGIN:VCALENDAR
VERSION:2.0
PRODID:-//国府弘子-Hiroko Kokubu- - ECPv4.6//NONSGML v1.0//EN
CALSCALE:GREGORIAN
METHOD:PUBLISH
X-WR-CALNAME:国府弘子-Hiroko Kokubu-
X-ORIGINAL-URL:http://kokubuhiroko.net
X-WR-CALDESC:Events for 国府弘子-Hiroko Kokubu-
BEGIN:VEVENT
DTSTART;VALUE=DATE:20150114
DTEND;VALUE=DATE:20150114
DTSTAMP:20260423T204355
CREATED:20150225T055229Z
LAST-MODIFIED:20150225T055229Z
UID:433-1421193600-1421279999@kokubuhiroko.net
SUMMARY:ジャズライフ　2月号
DESCRIPTION:ジャズライフ２月号にて国府弘子インタビューが掲載されております。 \n
URL:http://kokubuhiroko.net/schedule/post-433
CATEGORIES:メディア
END:VEVENT
END:VCALENDAR