BEGIN:VCALENDAR
VERSION:2.0
PRODID:-//国府弘子-Hiroko Kokubu- - ECPv4.6//NONSGML v1.0//EN
CALSCALE:GREGORIAN
METHOD:PUBLISH
X-WR-CALNAME:国府弘子-Hiroko Kokubu-
X-ORIGINAL-URL:http://kokubuhiroko.net
X-WR-CALDESC:Events for 国府弘子-Hiroko Kokubu-
BEGIN:VEVENT
DTSTART;VALUE=DATE:20150117
DTEND;VALUE=DATE:20150117
DTSTAMP:20260423T204023
CREATED:20150225T062331Z
LAST-MODIFIED:20150226T073635Z
UID:437-1421452800-1421539199@kokubuhiroko.net
SUMMARY:茨城・古河市ユーセンター総和／FM FUJI「さあ、RUBATO！」出演/文化放送　楽器学園～ガキパラ～ゲスト出演
DESCRIPTION:新春ジョイントコンサート 国府弘子＆新田昌弘 ジャズピアノ＆津軽三味線 \n昼の部：開場 12:30 開演13:00\n夜の部：開場16:00 開演16:30\n［2回公演］\n会場：ユーセンター総和\n〒306-0234　茨城県古河市上辺見2369　 TEL 0280-31-3211\n出演：国府弘子(ピアノ) 新田昌弘(津軽三味線)\n料金：2\,000円　(全席指定)\n申し込み受付中！\nお申込方法\n11月4日(火)～21日(金)に電話、文化課窓口［午前9時～午後5時］、ファクシミリ、Eメールのいずれかで申し込み下さい。\n※氏名、住所、電話番号、昼の部・夜の部の別、人数(4人まで)を記載してください。\nお問合せ\n・古河市民芸術鑑賞の集い実行委員会事務局( 文化課内)【古河庁舎】\n【FAX】0280-22-7114\n【Eメール】bunka@city.ibaraki-koga.lg.jp\nhttp://www.kogakanko.jp/top.php?ID=1176 \nFM FUJI「さあ、RUBATO！」22:30～23:00\nDJ：瀬戸 了／春ななみ\n軽井沢の素敵なワインレストラン「RUBATO」さんから\n「お客様であるリスナーとお酒のある楽しい時間をつなげ、お酒をもっと好きになってもらい、お酒と音楽に恋してもらう」ための情報を発信。\nお酒とトークと音楽・・・極上の一夜を演出します。\nhttp://www.fmfuji.jp/wine/\nFM FUJI HP\nhttp://www.fmfuji.jp/ （山梨 83.0MHz、東京 78.6MHz） \n一足早く新譜「ピアノ一丁」より音源がお聞き頂けます。 \n文化放送　楽器学園～ガキパラ～　18:00～19:55 　ゲスト出演いたします。\n岡部麿知さん、砂山圭太郎アナウンサー\nTwitter\n#gakipara1134 \nhttp://www.joqr.co.jp/gakipara/index.html \n
URL:http://kokubuhiroko.net/schedule/post-437
LOCATION:上辺見2369\, 古河市\, 茨城県\, 306-0234\, 日本
CATEGORIES:メディア,ライブ
ORGANIZER;CN="%E5%8F%A4%E6%B2%B3%E5%B8%82%E6%B0%91%E8%8A%B8%E8%A1%93%E9%91%91%E8%B3%9E%E3%81%AE%E9%9B%86%E3%81%84%E5%AE%9F%E8%A1%8C%E5%A7%94%E5%93%A1%E4%BC%9A%E4%BA%8B%E5%8B%99%E5%B1%80%28%20%E6%96%87%E5%8C%96%E8%AA%B2%E5%86%85%29%E3%80%90%E5%8F%A4%E6%B2%B3%E5%BA%81%E8%88%8E%E3%80%91":MAILTO:bunka@city.ibaraki-koga.lg.jp
END:VEVENT
END:VCALENDAR