BEGIN:VCALENDAR
VERSION:2.0
PRODID:-//国府弘子-Hiroko Kokubu- - ECPv4.6//NONSGML v1.0//EN
CALSCALE:GREGORIAN
METHOD:PUBLISH
X-WR-CALNAME:国府弘子-Hiroko Kokubu-
X-ORIGINAL-URL:http://kokubuhiroko.net
X-WR-CALDESC:Events for 国府弘子-Hiroko Kokubu-
BEGIN:VEVENT
DTSTART;VALUE=DATE:20150120
DTEND;VALUE=DATE:20150120
DTSTAMP:20260423T203911
CREATED:20150225T081123Z
LAST-MODIFIED:20150225T081123Z
UID:441-1421712000-1421798399@kokubuhiroko.net
SUMMARY:FMyokohama「女子ジャズRadio」ゲスト出演／　渡辺真知子　全国コミュニティFMネット番組「ＡＦＴＥＲＮＯＯＮ ＰＡＲＡＤＩＳＥ」生出演！！
DESCRIPTION:FMyokohama　リュウミホさん「女子ジャズRadio」\n毎週火曜日深夜25:30～ (1月21日1:30）にゲスト出演を致します。 \nリュウミホさん公式HP\nhttp://www.ryu-miho.com \nリュウミホさんブログ\nhttp://ameblo.jp/ryu-miho/entry-11951549549.html \nFmヨコハマ HP\nhttp://www.fmyokohama.co.jp/onair/program/JoshiJazzRadio \n渡辺真知子さんの番組に16時台に生出演致します。 \n全国コミュニティFMネット番組「アフタヌーンパラダイス」\n■放送日　毎週火曜日　三軒茶屋キャロットタワーサテライトスタジオより生放送\n■時間　13:00～17:00(ＦＭ世田谷ローカル）\n15:00～17:00（SPACE DiVA124ch・コミュニティFM全国放送）\nネット局はお近くのコミュニティＦＭ番組表をご確認ください。\n番組HPはMusic Bird またはFM世田谷から(インターネット配信によりPCでも聴けます)\n番組へのメッセージ、リクエストはFAX:03-3708-0834 MAIL:mail@afpara.comまで \nアフパラのHP　http://afpara.com \n世田谷FM 83.4 HP　http://fmsetagaya.com \n
URL:http://kokubuhiroko.net/schedule/post-441
CATEGORIES:メディア
END:VEVENT
END:VCALENDAR