BEGIN:VCALENDAR
VERSION:2.0
PRODID:-//国府弘子-Hiroko Kokubu- - ECPv4.6//NONSGML v1.0//EN
CALSCALE:GREGORIAN
METHOD:PUBLISH
X-WR-CALNAME:国府弘子-Hiroko Kokubu-
X-ORIGINAL-URL:http://kokubuhiroko.net
X-WR-CALDESC:Events for 国府弘子-Hiroko Kokubu-
BEGIN:VEVENT
DTSTART;VALUE=DATE:20150121
DTEND;VALUE=DATE:20150121
DTSTAMP:20260423T204254
CREATED:20150225T081314Z
LAST-MODIFIED:20150225T081709Z
UID:442-1421798400-1421884799@kokubuhiroko.net
SUMMARY:国府弘子22th アルバム・配信「ピアノ一丁！」発売！！　／　新・宮野寛子のCOMFORTな時間　ゲスト出演 ／　intoxicate インタビューがwebでも掲載
DESCRIPTION: \n「ピアノ一丁！」国府弘子\n2015年1月21日発売 　VICJ-61708 / 3\,000円+税 \nお待たせしました。\n愛情たっぷり。極上のピアノ、一丁！ \n“こんなピアノの音色を、聞きたかった”\n聴き手をとことん幸せにするピアノミュージック。\n国府弘子の待望の新作は、銀座ヤマハホール録音の完全ソロピアノ作品。\nホールとピアノ（ヤマハコンサートグランドピアノ・CFX）の豊かな響き、それらを贅沢に使用して奏でられる、新作オリジナル曲と多彩なジャンルの名曲たち。\n極上のピアノ演奏が、満を持して貴方のもとに。 \n＜収録曲＞\n1.ピアノ一丁！のテーマTheme from Piano Iccho!（国府弘子/新作オリジナル）\n2.ユー・チューン・マイ・ハートYou Tune My Heart（国府弘子/新作オリジナル）\n3.ソー・イン・ラヴSo In Love　(C.ポーター/「日曜洋画劇場エンディングテーマ」)\n4.サムホェアSomewhere　(L.バーンスタイン/「ウエストサイド物語」より)\n5 I.独りの時間 (組曲「ピアノテラピー」) I.Time On My Own（SUITE“PIANOTHERAPY”）\n6.II.眠りの森 (組曲「ピアノテラピー」) II.The Forest In My Dreams（SUITE“PIANOTHERAPY”）\n7.III.瞑想 (組曲「ピアノテラピー」)III.Meditation（SUITE“PIANOTHERAPY”）(国府弘子/新作オリジナル）\n8. サクセス・ムーン・ダンスSuccess Moon Dance（国府弘子）\n9. ゴールデン・スランバー Golden Slumbers (Lennon & McCartney/「アビイ・ロード」より\n10. ラプソディ・イン・ブルー Rhapsody In Blue（G.ガーシュイン）\n11. ブラッド・サーキュレイションBlood Circulation（国府弘子/新作オリジナル）\n12. スターランドStarland（国府弘子）\n13. ハッピー Happy （ファレル・ウィリアムス）\n14. コスモスアベニュー Cosmos Avenue（松岡直也）\n15. 男はつらいよ　Otoko Wa Tsuraiyo（映画「男はつらいよ」より）*ピアニカ \nハイレゾ・高音質音源配信も本日より開始 \nhttp://hd-music.info \n国府弘子とエンジニア藁谷義徳さんインタビューも掲載されております。 \n新・宮野寛子のCOMFORTな時間　ゲスト出演 \n20時半～21時　全国のコミュニティFMで放送中\n（一部放送局をのぞく） \n♪パソコンからは、サイマルラジオ\nhttp://www.jcbasimul.com/へアクセスし下記、放送局の「Listen」をクリック。 \n♪スマートフォンからは、\n●Android→ Tuneinアプリをダウンロード https://play.google.com/apps?hl=ja \n●iphone→　Tuneinアプリhttps://itunes.apple.com/jp/app/tunein-radio/id418987775?mt=8\nコミュニティFM for iPhone （i-コミュラジ）アプリ\nhttps://itunes.apple.com/jp/app/id362462235?mt=8 \n宮野寛子さんのブログ\nhttp://hirokocomfort.seesaa.net/article/405753156.html#more \n宮野寛子さんHP\nhttp://miyanohiroko.seesaa.net \n本日発売「ピアノ一丁！」のintoxicate インタビューがwebでも掲載されました。http://mikiki.tokyo.jp/articles/-/5029 \n
URL:http://kokubuhiroko.net/schedule/post-442
CATEGORIES:メディア
END:VEVENT
END:VCALENDAR