BEGIN:VCALENDAR
VERSION:2.0
PRODID:-//国府弘子-Hiroko Kokubu- - ECPv4.6//NONSGML v1.0//EN
CALSCALE:GREGORIAN
METHOD:PUBLISH
X-WR-CALNAME:国府弘子-Hiroko Kokubu-
X-ORIGINAL-URL:http://kokubuhiroko.net
X-WR-CALDESC:Events for 国府弘子-Hiroko Kokubu-
BEGIN:VEVENT
DTSTART;VALUE=DATE:20150126
DTEND;VALUE=DATE:20150126
DTSTAMP:20260423T204059
CREATED:20150225T081910Z
LAST-MODIFIED:20150225T081910Z
UID:447-1422230400-1422316799@kokubuhiroko.net
SUMMARY:九州朝日放送KBCラジオ　Dr.コパの黄金の扉　出演 Nack5「Nack de Rock」24:00～25:00／ ENGINE 2015年3月号 掲載
DESCRIPTION:Nack5 79.5「Nack de Rock」24:00～25:00\n2013年の所沢のアンフォゲッタブルコンサートにゲストで出演して下さった\nスターダストレビューの根本要さんの番組にゲスト出演いたします。 \nパーソナリティー：根本要さん（STARDUST REVUE）、窪田有美さん\nhttp://www.nack5.co.jp/program_471.shtml?date=2012-10-08 \n12月に引き続いて\n「Dr.コパの黄金の扉」　ゲスト出演をいたします。\n19時から20時\n九州朝日放送KBCラジオにて \nhttp://www.kbc.co.jp/radio/gold/ \n2015年1月26日発売\nENGINE 2015年3月号\nのMUSUCのページに掲載されております。\nhttp://engine-online.jp \n
URL:http://kokubuhiroko.net/schedule/post-447
CATEGORIES:メディア
END:VEVENT
END:VCALENDAR