BEGIN:VCALENDAR
VERSION:2.0
PRODID:-//国府弘子-Hiroko Kokubu- - ECPv4.6//NONSGML v1.0//EN
CALSCALE:GREGORIAN
METHOD:PUBLISH
X-WR-CALNAME:国府弘子-Hiroko Kokubu-
X-ORIGINAL-URL:http://kokubuhiroko.net
X-WR-CALDESC:Events for 国府弘子-Hiroko Kokubu-
BEGIN:VEVENT
DTSTART;VALUE=DATE:20150130
DTEND;VALUE=DATE:20150130
DTSTAMP:20260423T194412
CREATED:20150225T082400Z
LAST-MODIFIED:20150226T073520Z
UID:450-1422576000-1422662399@kokubuhiroko.net
SUMMARY:東京・よみうり大手町ホール　/ 読売新聞　夕刊掲載
DESCRIPTION:国府弘子Happy Music 2015「ピアノ一丁！」\n出演は、あうんの呼吸の「国府弘子スペシャルトリオ」に、ゲストの夏川りみさんを迎え、「聴き手も一緒に、音楽で幸せになろう！」のコンセプトでお届けします。\nよみうり大手町ホールの良質の響きと、一体感のある楽しい音楽で、心揺さぶる”Happy Music”な一夜になること間違いありません！どうぞご期待ください。 \n国府弘子スペシャルトリオ　国府弘子(ピアノ)　八尋洋一(ベース)　岩瀬立飛(ドラム)\nゲスト　夏川りみ（vo）\n開場18:30 開演19:00\n料金　6\,000円（全席指定・税込）\n2014年11月14日（金）10:00より発売開始\nチケット取り扱い\n<よみチケ>http://yomi-ticket.pia.jp/ticketInformation.do?eventCd=1449253&rlsCd=002\n<チケットぴあ>　Tel：0570-02-9999(24時間受付)Pコード：248-256\nhttp://ticket.pia.jp/pia/event.do?eventCd=1449253\n<ローソンチケット> http://l-tike.com/　Tel：0570-084-003 Lコード：70918\n<イープラス>\nhttp://sort.eplus.jp/sys/T1U14P0010163P0108P002002038P0050001P006001P0030017 \nお問い合わせ　読売新聞東京本社文化事業部　TEL:03-3216-8500 \n
URL:http://kokubuhiroko.net/schedule/post-450
CATEGORIES:メディア,ライブ
END:VEVENT
END:VCALENDAR