BEGIN:VCALENDAR
VERSION:2.0
PRODID:-//国府弘子-Hiroko Kokubu- - ECPv4.6//NONSGML v1.0//EN
CALSCALE:GREGORIAN
METHOD:PUBLISH
X-WR-CALNAME:国府弘子-Hiroko Kokubu-
X-ORIGINAL-URL:http://kokubuhiroko.net
X-WR-CALDESC:Events for 国府弘子-Hiroko Kokubu-
BEGIN:VEVENT
DTSTART;VALUE=DATE:20150202
DTEND;VALUE=DATE:20150202
DTSTAMP:20260423T194829
CREATED:20150225T091244Z
LAST-MODIFIED:20150225T091244Z
UID:464-1422835200-1422921599@kokubuhiroko.net
SUMMARY:Jazz Cafe（ウェブサイト）に「ピアノ一丁！」掲載。
DESCRIPTION:◇［マスターの新譜紹介］\n2015年1月21日にリリースされた『国府弘子／ピアノ一丁！』です。\n▼詳しくはこちらから\nhttp://jazzcafe.jvckenwood.com/master/newrelease/?ad=vml150202 \n◇「マスターのこだわり」ハイレゾ特集＜全5回＞公開中！\n【「いい音」がジャズをもっと楽しくする】\n▼詳しくはこちらから\nhttp://jazzcafe.jvckenwood.com/master/recommend/recommenddata/detail/id/17583/?ad=vml150202 \n◇［Jazz名曲アルバム］\n今月の名曲は、“リコーダ・ミー（Recoda Me）”です。\n▼詳しくはこちらから\nhttp://jazzcafe.jvckenwood.com/column/album/?ad=vml150202 \nhttp://jazzcafe.jvckenwood.com/master/newrelease/releasedata/detail/id/17664/ \n
URL:http://kokubuhiroko.net/schedule/post-464
CATEGORIES:メディア
END:VEVENT
END:VCALENDAR