BEGIN:VCALENDAR
VERSION:2.0
PRODID:-//国府弘子-Hiroko Kokubu- - ECPv4.6//NONSGML v1.0//EN
CALSCALE:GREGORIAN
METHOD:PUBLISH
X-WR-CALNAME:国府弘子-Hiroko Kokubu-
X-ORIGINAL-URL:http://kokubuhiroko.net
X-WR-CALDESC:Events for 国府弘子-Hiroko Kokubu-
BEGIN:VEVENT
DTSTART;VALUE=DATE:20150207
DTEND;VALUE=DATE:20150207
DTSTAMP:20260423T194442
CREATED:20150225T091609Z
LAST-MODIFIED:20150225T091625Z
UID:465-1423267200-1423353599@kokubuhiroko.net
SUMMARY:宝くじ文化公演　と・き・め・きコンサート　～叶正子・国府弘子を迎えて～
DESCRIPTION:宝くじ文化公演　と・き・め・きコンサート　～叶正子・国府弘子を迎えて～\n指揮：家田 厚志　演奏：東京ニューシティー管弦楽団\n大ヒット曲「Mr.サマータイム」で知られるヴォーカルグループ「サーカス」の叶正子さんと\n人気ジャズピアニスト国府弘子さんを特別ゲストに迎え、２人の楽しいお話と素晴らしい歌と演奏でときめきのわくわくした時間をお届けします。\n東京ニューシティ管弦楽団の大編成のオーケストラで贈る、クラシック、ポップス、映画音楽など\n懐かしく心温まる曲の数々をお楽しみください！\n開場17:30\n開演18:00\n会場　宮崎・延岡総合文化センター（大ホール）\n〒882-0852　延岡市東浜砂町611-2\n料金：一般3\,000円　学生1\,500円（全席指定） \nプレイガイド\n延岡総合文化センター/さわたり楽器店/たつたレコード店/TSUTAYA岡富店/西村楽器延岡店/\n延岡市役所売店/明屋書店一ケ岡店/門川町総合文化会館/日向市文化交流センター/\n生活協同組合コープみやざき\nセブンチケット（セブンコード:033-773)\nＰＣ用チケット購入ページ→https://www.e-get.jp/sevenintike/pt/\n携帯用チケット購入ページ→https://www.e-get.jp/sevenintike/dt/\nチケット購入の際には以下のID・パスワードをご使用ください。\nID：nscc　 パスワード：711\nローソンチケット（Lコード:89061） \nお問い合わせ　延岡総合文化センター Tel:0982-22-1855\nhttp://www.nobeoka-bunka.com/?p=3077 \n
URL:http://kokubuhiroko.net/schedule/post-465
LOCATION:東浜砂町611-2\, 延岡市\, 宮崎県\, 882-0852\, 日本
CATEGORIES:ライブ
END:VEVENT
END:VCALENDAR