BEGIN:VCALENDAR
VERSION:2.0
PRODID:-//国府弘子-Hiroko Kokubu- - ECPv4.6//NONSGML v1.0//EN
CALSCALE:GREGORIAN
METHOD:PUBLISH
X-WR-CALNAME:国府弘子-Hiroko Kokubu-
X-ORIGINAL-URL:http://kokubuhiroko.net
X-WR-CALDESC:Events for 国府弘子-Hiroko Kokubu-
BEGIN:VEVENT
DTSTART;TZID=Asia/Tokyo:20150207T210000
DTEND;TZID=Asia/Tokyo:20150207T215500
DTSTAMP:20260423T183050
CREATED:20150225T091722Z
LAST-MODIFIED:20150225T091722Z
UID:468-1423342800-1423346100@kokubuhiroko.net
SUMMARY:FM徳島 /FM新潟「MO'Cool JAZZ」出演
DESCRIPTION:小川もこさんの番組に2週に渡り出演致します。 \n「MO’Cool JAZZ」（モークール・ジャズ）\nパーソナリティ：小川もこ\n番組ブログHP　http://mokojazz.ldblog.jp/ \nFMとやま\n2015年1月25日（日）＆2015年2月1日（日）21:00～21:55\nhttp://www.fmtoyama.co.jp/ \nFM徳島\n2015年1月31日（土）＆2月7日（土）20:00～20:55\nhttp://www.fm807.jp/ \nFM新潟\n2015年1月31日（土）＆2月7日（土）21:00～21:55\nhttp://www.fmniigata.com/ \nインターネットラジオ「radiko」でもお楽しみ頂けます。\nhttp://radiko.jp/ \n
URL:http://kokubuhiroko.net/schedule/post-468
CATEGORIES:メディア
END:VEVENT
END:VCALENDAR