BEGIN:VCALENDAR
VERSION:2.0
PRODID:-//国府弘子-Hiroko Kokubu- - ECPv4.6//NONSGML v1.0//EN
CALSCALE:GREGORIAN
METHOD:PUBLISH
X-WR-CALNAME:国府弘子-Hiroko Kokubu-
X-ORIGINAL-URL:http://kokubuhiroko.net
X-WR-CALDESC:Events for 国府弘子-Hiroko Kokubu-
BEGIN:VEVENT
DTSTART;VALUE=DATE:20150208
DTEND;VALUE=DATE:20150208
DTSTAMP:20260423T183111
CREATED:20150225T092114Z
LAST-MODIFIED:20150225T092334Z
UID:473-1423353600-1423439999@kokubuhiroko.net
SUMMARY:宝くじ文化公演　と・き・め・きコンサート ～叶正子・国府弘子を迎えて～
DESCRIPTION:宮崎市制90周年記念事業 宝くじ文化公演　と・き・め・きコンサート ～叶正子・国府弘子を迎えて～\n指揮：家田 厚志　演奏：東京ニューシティー管弦楽団 \n大ヒット曲「Mr.サマータイム」で知られるヴォーカルグループ「サーカス」の叶正子さんと\n人気ジャズピアニスト国府弘子さんを特別ゲストに迎え、２人の楽しいお話と素晴らしい歌と演奏でときめきのわくわくした時間をお届けします。\n東京ニューシティ管弦楽団の大編成のオーケストラで贈る、クラシック、ポップス、映画音楽など\n懐かしく心温まる曲の数々をお楽しみください！ \n開演13:30\n開場14:00\n会場　宮崎・宮崎市民文化ホール　大ホール\n宮崎県宮崎市花山手東3丁目25-3\nhttp://www.miyazakibunkahall.jp/index.php\n料金 一般3\,000円（当日3\,500円）高校生以下1\,500円（当日2\,000円）\n※宝くじの助成により特別料金になっています。\nお問い合わせ　宮崎市民文化ホールTel:0985-52-7722\nhttp://miyazaki.mypl.net/event/00000166667/ \nFB  https://www.facebook.com/miyazaki.bunkahall \n
URL:http://kokubuhiroko.net/schedule/post-473
LOCATION:花山手東3丁目25-3\, 宮崎市\, 宮崎県\, 880-0930\, 日本
CATEGORIES:ライブ
END:VEVENT
END:VCALENDAR