BEGIN:VCALENDAR
VERSION:2.0
PRODID:-//国府弘子-Hiroko Kokubu- - ECPv4.6//NONSGML v1.0//EN
CALSCALE:GREGORIAN
METHOD:PUBLISH
X-WR-CALNAME:国府弘子-Hiroko Kokubu-
X-ORIGINAL-URL:http://kokubuhiroko.net
X-WR-CALDESC:Events for 国府弘子-Hiroko Kokubu-
BEGIN:VEVENT
DTSTART;TZID=Asia/Tokyo:20150208T223000
DTEND;TZID=Asia/Tokyo:20150208T230000
DTSTAMP:20260423T183023
CREATED:20150225T092422Z
LAST-MODIFIED:20150225T092422Z
UID:475-1423434600-1423436400@kokubuhiroko.net
SUMMARY:ABCラジオ「The Music Now」ゲスト出演
DESCRIPTION:ABCラジオ「The Music Now」ゲスト出演\nなんと、10年ぶりに2週に渡り出演いたします。\n22:30～23:00\nパーソナリティー高橋キヨシさん\n川村美沙子さん\nhttp://abc1008.com/tmn/ \n
URL:http://kokubuhiroko.net/schedule/post-475
CATEGORIES:メディア
END:VEVENT
END:VCALENDAR